BEGIN:VCALENDAR
VERSION:2.0
PRODID:-//Gunpowder Valley Conservancy - ECPv4.6.26.1//NONSGML v1.0//EN
CALSCALE:GREGORIAN
METHOD:PUBLISH
X-WR-CALNAME:Gunpowder Valley Conservancy
X-ORIGINAL-URL:https://gunpowdervalleyconservancy.org
X-WR-CALDESC:Events for Gunpowder Valley Conservancy
BEGIN:VEVENT
DTSTART;TZID=America/New_York:20200222T120000
DTEND;TZID=America/New_York:20200222T150000
DTSTAMP:20210728T182823
CREATED:20200107T174442Z
LAST-MODIFIED:20200203T201514Z
UID:12546-1582372800-1582383600@gunpowdervalleyconservancy.org
SUMMARY:Tree Maintenance
DESCRIPTION:Newly planted trees need TLC to survive. Spend several hours to help young trees grow into healthy forests! \nTree maintenance involves removing invasive plants\, checking planted trees to see if the shelter needs to be removed and removing if necessary\, digging out the planting tube\, and making sure the plant is upright. \nCommunity service learning hours available. Volunteers need to be at least 13 years old. \nClick here to sign up for the event \nEVENT INFO \nWhen: Saturday\, February 22\, 2020 from 12 pm – 3 pm . Please arrive 15 minutes early so you can sign in and receive tools. Please note\, that our winter events are weather dependent. You’ll be notified by the event leader if the event has been cancelled. \nWhat to bring: Dress in layers and wear closed-toed shoes (boots are best). Bring a hat\, gloves\, and a filled water bottle. \nDirections: Loch Raven Reservoir area (near Dulaney Valley Road x Stone Hill Road).  Please park on the grass on the west side of Dulaney Valley Road just south of Stone Hill Road. Look for a black Prius parked there and park behind it.You can turn around on the entrance road to Loch Raven Skeet and Trap Club if you need to. That address is 12301 Dulaney Valley Road\, Phoenix\, MD 21131. You don’t need to go all the way to the Skeet and Trap Club\, just turn around on the entrance road if you need to so you can park on the west side of Dulaney Valley Road. \nQuestions? Contact Kim Peabody\, Tree Maintenance Coordinator\, by email or at 410-570-9850. \n
URL:https://gunpowdervalleyconservancy.org/event/tree-maintenance-feb-22/
LOCATION:MD\, United States
CATEGORIES:Volunteer
ATTACH;FMTTYPE=image/jpeg:https://gunpowdervalleyconservancy.org/content/uploads/Tree-Maintenance-e1487005792166.jpg
ORGANIZER;CN="Kim%20Peabody%20%40%20Gunpowder%20Valley%20Conservancy":MAILTO:kpeabody@gunpowdervc.org
END:VEVENT
END:VCALENDAR