BEGIN:VCALENDAR
VERSION:2.0
PRODID:-//Gunpowder Valley Conservancy - ECPv4.6.26.1//NONSGML v1.0//EN
CALSCALE:GREGORIAN
METHOD:PUBLISH
X-WR-CALNAME:Gunpowder Valley Conservancy
X-ORIGINAL-URL:https://gunpowdervalleyconservancy.org
X-WR-CALDESC:Events for Gunpowder Valley Conservancy
BEGIN:VEVENT
DTSTART;TZID=America/New_York:20170527T100000
DTEND;TZID=America/New_York:20170527T130000
DTSTAMP:20210730T004825
CREATED:20170306T031551Z
LAST-MODIFIED:20170320T130718Z
UID:3612-1495879200-1495890000@gunpowdervalleyconservancy.org
SUMMARY:Tree Maintenance
DESCRIPTION:Newly planted trees need TLC to survive. Spend a couple hours to help make our Reforestation projects a success! \nTree maintenance involves removing invasive plants\, checking planted trees to see if the shelter needs to be removed and removing if necessary\, digging out the planting tube\, and making sure the plant is upright. \nPlease arrive 15 minutes early so you can sign in and receive tools \nCommunity service learning hours available. \nWhat to bring: Wear long pants\, long sleeved shirt and closed-toed shoes (boots are best). Bring leather gloves if you have them. Bring a filled water bottle. \nDirections: Park at the entrance of the road leading to the Loch Raven Skeet and Trap Center at 12301 Dulaney Valley Rd\, Phoenix\, MD 21131. It is off of Dulaney Valley Road. \nClick here to register online for this event! \nFor more information\, contact Kim Peabody\, Tree Maintenance Coordinator\, by email or at 410-570-9850. \n
URL:https://gunpowdervalleyconservancy.org/event/tree-maintenance-may-27/
LOCATION:Loch Raven Skeet & Trap Center\, 12301 Dulaney Valley Road\, Phoenix\, MD\, 21131\, United States
GEO:39.467169;-76.557701
X-APPLE-STRUCTURED-LOCATION;VALUE=URI;X-ADDRESS=Loch Raven Skeet & Trap Center 12301 Dulaney Valley Road Phoenix MD 21131 United States;X-APPLE-RADIUS=500;X-TITLE=12301 Dulaney Valley Road:geo:-76.557701,39.467169
ATTACH;FMTTYPE=image/jpeg:https://gunpowdervalleyconservancy.org/content/uploads/Tree-Maintenance-e1487005792166.jpg
ORGANIZER;CN="Kim%20Peabody%20%40%20Gunpowder%20Valley%20Conservancy":MAILTO:kpeabody@gunpowdervc.org
END:VEVENT
END:VCALENDAR