BEGIN:VCALENDAR
VERSION:2.0
PRODID:-//Gunpowder Valley Conservancy - ECPv4.6.26.1//NONSGML v1.0//EN
CALSCALE:GREGORIAN
METHOD:PUBLISH
X-WR-CALNAME:Gunpowder Valley Conservancy
X-ORIGINAL-URL:https://gunpowdervalleyconservancy.org
X-WR-CALDESC:Events for Gunpowder Valley Conservancy
BEGIN:VEVENT
DTSTART;TZID=America/New_York:20201011T100000
DTEND;TZID=America/New_York:20201011T130000
DTSTAMP:20210626T051833
CREATED:20200813T123618Z
LAST-MODIFIED:20201009T130346Z
UID:13065-1602410400-1602421200@gunpowdervalleyconservancy.org
SUMMARY:Tree Maintenance
DESCRIPTION:Note: Participants are expected to wear face masks during this event. The event will be held outdoors and adhere to our COVID-19 social distancing policy. \nNewly planted trees need TLC to survive. Spend several hours to help young trees grow into healthy forests! \nTree maintenance involves removing invasive plants\, checking planted trees to see if the shelter needs to be removed and removing if necessary\, digging out the planting tube\, and making sure the plant is upright. \nA maximum of 15 people\, including GVC staff\, will be allowed to participate in this event. We are allowing minors (ages 10 – 17) to attend our events as long as there is one parent/legal guardian per two children in attendance. \nClick here to sign up for the event \nEVENT INFO \nWhen: Sunday\, October 11\, 2020 (10 am – 1 pm) . Please arrive 15 minutes early so you can sign in and receive tools. \nWhat to bring: Wear long pants\, a long sleeve shirt\, and closed-toed shoes (boots are best!) Bring a hat\, work gloves (if you have them)\, and a filled water bottle. \nUPDATED Directions: Loch Raven Trap and Skeet Club (12301 Dulaney Valley Road\, Phoenix\, MD 21131). Look for the big brown sign at the entrance. The entrance is across the street from Eagle’s Nest golf course. \nQuestions? Contact Kim Thomas\, Tree Maintenance Coordinator\, by email or at 443-797-9341 \n
URL:https://gunpowdervalleyconservancy.org/event/tree-maintenance-oct-11/
LOCATION:Loch Raven Skeet & Trap Center\, 12301 Dulaney Valley Road\, Phoenix\, MD\, 21131\, United States
GEO:39.467169;-76.557701
X-APPLE-STRUCTURED-LOCATION;VALUE=URI;X-ADDRESS=Loch Raven Skeet & Trap Center 12301 Dulaney Valley Road Phoenix MD 21131 United States;X-APPLE-RADIUS=500;X-TITLE=12301 Dulaney Valley Road:geo:-76.557701,39.467169
CATEGORIES:Volunteer
ATTACH;FMTTYPE=image/jpeg:https://gunpowdervalleyconservancy.org/content/uploads/Tree-Maintenance_tree-shelter2-e1574129925618.jpg
ORGANIZER;CN="Kim%20Thomas":MAILTO:kthomas@gunpowdervc.org
END:VEVENT
END:VCALENDAR