BEGIN:VCALENDAR
VERSION:2.0
PRODID:-//Gunpowder Valley Conservancy - ECPv4.6.26.1//NONSGML v1.0//EN
CALSCALE:GREGORIAN
METHOD:PUBLISH
X-WR-CALNAME:Gunpowder Valley Conservancy
X-ORIGINAL-URL:https://gunpowdervalleyconservancy.org
X-WR-CALDESC:Events for Gunpowder Valley Conservancy
BEGIN:VEVENT
DTSTART;TZID=America/New_York:20201017T100000
DTEND;TZID=America/New_York:20201017T130000
DTSTAMP:20210625T045820
CREATED:20200918T183220Z
LAST-MODIFIED:20201006T221256Z
UID:13315-1602928800-1602939600@gunpowdervalleyconservancy.org
SUMMARY:Tree Planting - FULL
DESCRIPTION:Registration is now closed for this event (10/6/20). Please visit our online calendar of events for other outdoor volunteer opportunities. \nNote: Participants are expected to wear face masks during this event. The event will be held outdoors and adhere to our COVID-19 social distancing policy. \nPlant trees for cleaner air and water in Baltimore County!  \nMore than 31\,000 trees have been planted throughout the Gunpowder Watershed by enthusiastic volunteers over the past 30 years\, and we need YOUR help to plant even more! We are looking for student volunteers and adults who care about the Earth\, our watershed\, and the Chesapeake Bay!  Do you like being outside in nature and don’t mind working hard?  Join us\, and make a difference for future generations. \nA maximum of 25 people\, including GVC staff and volunteer leaders\, will be allowed to participate in this event. We are allowing minors (ages 10 – 17) to attend our events as long as there is one parent/legal guardian per two children in attendance. \nEVENT DETAILS \nDate: Saturday\, October 17\, 2020 (10 am – 1 pm). This event is rain or shine. \nLocation: Pine Ridge Golf Course\, 2101 Dulaney Valley Road\, Lutherville\, MD 21093.  From I-695 take exit 27 (Dulaney Valley Rd\, North). Go past Seminary Ave. and follow for about 1/2 to 1 mile. Turn right into the Pine Ridge Golf Course just before Timonium Rd. intersection. Go down driveway passing over speed bumps until you see our Gunpowder Valley Conservancy tree planting sign on the ride side. Park along the road on right side only (2 tires on grass\, 2 tires on road). \nWhat to bring: Remember to wear boots\, pants\, long sleeve shirt\, hat\, gloves\, and bring rain gear. Each volunteer will need to bring their own labeled water bottle. \n**If you get lost the day of the planting\, contact Peg at (443) 415-7969** \nFunding for this reforestation project was provided by a grant from the Chesapeake and Atlantic Coastal Bays Trust Fund\, administered by the Maryland Department of Natural Resources. \n
URL:https://gunpowdervalleyconservancy.org/event/tree-planting-oct-17/
LOCATION:Pine Ridge Golf Course\, 2101 Dulaney Valley Road\, Lutherville\, MD\, 21093\, United States
GEO:39.445274;-76.591187
X-APPLE-STRUCTURED-LOCATION;VALUE=URI;X-ADDRESS=Pine Ridge Golf Course 2101 Dulaney Valley Road Lutherville MD 21093 United States;X-APPLE-RADIUS=500;X-TITLE=2101 Dulaney Valley Road:geo:-76.591187,39.445274
CATEGORIES:Volunteer
ATTACH;FMTTYPE=image/png:https://gunpowdervalleyconservancy.org/content/uploads/Tree-planting-cover.png
ORGANIZER;CN="Peg%20Perry%20%40%20Gunpowder%20Valley%20Conservancy":MAILTO:pperry@gunpowdervc.org
END:VEVENT
END:VCALENDAR