BEGIN:VCALENDAR
VERSION:2.0
PRODID:-//Gunpowder Valley Conservancy - ECPv4.6.26.1//NONSGML v1.0//EN
CALSCALE:GREGORIAN
METHOD:PUBLISH
X-WR-CALNAME:Gunpowder Valley Conservancy
X-ORIGINAL-URL:https://gunpowdervalleyconservancy.org
X-WR-CALDESC:Events for Gunpowder Valley Conservancy
BEGIN:VEVENT
DTSTART;TZID=America/New_York:20201019T100000
DTEND;TZID=America/New_York:20201019T130000
DTSTAMP:20210625T045909
CREATED:20201012T181010Z
LAST-MODIFIED:20201012T184736Z
UID:13380-1603101600-1603112400@gunpowdervalleyconservancy.org
SUMMARY:Tree Maintenance
DESCRIPTION:Note: Participants are expected to wear face masks during this event. The event will be held outdoors and adhere to our COVID-19 social distancing policy. \nNewly planted trees need TLC to survive. Spend several hours to help young trees grow into healthy forests! \nTree maintenance involves removing invasive plants\, checking planted trees to see if the shelter needs to be removed and removing if necessary\, digging out the planting tube\, and making sure the plant is upright. \nA maximum of 10 people\, including GVC staff\, will be allowed to participate in this event. We are allowing minors (ages 13 – 17) to attend our events as long as there is one parent/legal guardian per two children in attendance. \nClick here to sign up for the event \nEVENT INFO \nWhen: Monday\, October 19\, 2020 (10 am – 1 pm) . Please arrive 15 minutes early so you can sign in and receive tools. \nWhat to bring: Wear long pants\, a long sleeve shirt\, and closed-toed shoes (boots are best!) Bring a hat\, work gloves (if you have them)\, and a filled water bottle. \nDirections: Hydes Road Park\, 5607 Hydes Road\, Hydes\, MD\, 21082. Please park in the most western part of the parking lot. Look for GVC event signs and a white Toyota Camry. \nQuestions? Contact Kim Thomas\, Tree Maintenance Coordinator\, by email or at (443) 797-9341 \n
URL:https://gunpowdervalleyconservancy.org/event/tree-maintenance-oct-19/
LOCATION:Hydes Road Park\, 5607 Hydes Road\, Hydes\, Maryland\, 21082
CATEGORIES:Volunteer
ATTACH;FMTTYPE=image/jpeg:https://gunpowdervalleyconservancy.org/content/uploads/Tree-Maintenance-e1487005792166.jpg
ORGANIZER;CN="Kim%20Thomas":MAILTO:kthomas@gunpowdervc.org
END:VEVENT
END:VCALENDAR